BEGIN:VCALENDAR
VERSION:2.0
PRODID:-//Your Site//NONSGML v1.0//EN
BEGIN:VEVENT
UID:69ca989258fed@werkcentrumrijnmond.nl
DTSTAMP:20260330T153650Z
DTSTART:20260512T090000Z
DTEND:20260512T120000Z
SUMMARY:Banenmarkt 
DESCRIPTION:
LOCATION:UWV, Burgemeester Brokxlaan 1680, 5041 SG Tilburg
END:VEVENT
END:VCALENDAR