BEGIN:VCALENDAR
VERSION:2.0
PRODID:-//Your Site//NONSGML v1.0//EN
BEGIN:VEVENT
UID:69cbd25c494bc@werkcentrumrijnmond.nl
DTSTAMP:20260331T135540Z
DTSTART:20260428T090000Z
DTEND:20260428T120000Z
SUMMARY:Banenmarkt 
DESCRIPTION:
LOCATION:UWV, Burgemeester Brokxlaan 1680, 5041 SG Tilburg
END:VEVENT
END:VCALENDAR